Workbook

Sheet Folha Assiduidade 1
A2: MINISTÉRIO DA ECONOMIA E DO EMPREGO
A3: Passaportes Emprego 3i - Portaria 156/2013 de 18 de abril
A5: Mapa de Assiduidade dos Destinatários.
A7: 1. IDENTIFICAÇÃO DO PROCESSO: | G7: Projeto n.º : | N7: 2. IDENTIFICAÇÃO DA ENTIDADE: | T7: 2.1: Denominação Social : | AH7: 2.2 NIPC/NIF
A10: 3. PERÍODO A QUE REPORTA O MAPA: | I10: Início | K10: Mês : | P10: Ano: | V10: Fim | X10: Mês : | AC10: Ano:
B13: Nome do Destinatário: | O13: Nome do Destinatário: | AB13: Nome do Destinatário:
B14: Meses de Implementação do Projeto | O14: Meses de Implementação do Projeto | AB14: Meses de Implementação do Projeto
A15: Dia | B15: 1.º | C15: 2.º | D15: 3.º | E15: 4.º | F15: 5.º | G15: 6.º | H15: 7.º | I15: 8.º | J15: 9.º | K15: 10.º | L15: 11.º | M15: 12.º | N15: 13.º | O15: 1.º | P15: 2.º | Q15: 3.º | R15: 4.º | S15: 5.º | T15: 6.º | U15: 7.º | V15: 8.º | W15: 9.º | X15: 10.º | Y15: 11.º | Z15: 12.º | AA15: 13.º | AB15: 1.º | AC15: 2.º | AD15: 3.º | AE15: 4.º | AF15: 5.º | AG15: 6.º | AH15: 7.º | AI15: 8.º | AJ15: 9.º | AK15: 10.º | AL15: 11.º | AM15: 12.º | AN15: 13.º
A16: 1
A17: 2
A18: 3
A19: 4
A20: 5
A21: 6
A22: 7
A23: 8
A24: 9
A25: 10
A26: 11
A27: 12
... A46: 31
A47: C
A48: J
A49: I
A50: FT
A51: C + J | B51: =+B47+B48 -> 0 | C51: =+C47+C48 -> 0 | D51: =+D47+D48 -> 0 | E51: =+E47+E48 -> 0 | F51: =+F47+F48 -> 0 | G51: =+G47+G48 -> 0 | H51: =+H47+H48 -> 0 | I51: =+I47+I48 -> 0 | ... AN51: =+AN47+AN48 -> 0
A52: F
A53: P
A54: Rubrica do Destinatário | O54: Rubrica do Destinatário | AB54: Rubrica do Destinatário
AH57: Pág. | AK57: de

Sheet Folha Assiduidade 2
A2: MINISTÉRIO DA ECONOMIA E DO EMPREGO
A3: Passaportes Emprego 3i - Portaria 156/2013 de 18 de abril
A5: Mapa de Assiduidade dos Destinatários.
A7: 1. IDENTIFICAÇÃO DO PROCESSO: | G7: Projeto n.º : | J7: =+'Folha Assiduidade 1'!J7:L7 -> 0 | N7: 2. IDENTIFICAÇÃO DA ENTIDADE: | T7: 2.1: Denominação Social : | Y7: =+'Folha Assiduidade 1'!Y7:AF7 -> 0 | AH7: 2.2 NIPC/NIF | AK7: =+'Folha Assiduidade 1'!AK7:AM7 -> 0
A10: 3. PERÍODO A QUE REPORTA O MAPA: | I10: Início | K10: Mês : | L10: =+'Folha Assiduidade 1'!L10:N10 -> 0 | P10: Ano: | Q10: =+'Folha Assiduidade 1'!Q10:R10 -> 0 | V10: Fim | X10: Mês : | Y10: =+'Folha Assiduidade 1'!Y10:AA10 -> 0 | AC10: Ano: | AD10: =+'Folha Assiduidade 1'!AD10:AE10 -> 0
B13: Nome do Destinatário: | O13: Nome do Destinatário: | AB13: Nome do Destinatário:
B14: Meses de Implementação do Projeto | O14: Meses de Implementação do Projeto | AB14: Meses de Implementação do Projeto
A15: Dia | B15: 14ª | C15: 15º | D15: 16º | E15: 17º | F15: 18º | G15: 19º | O15: 14ª | P15: 15º | Q15: 16º | R15: 17º | S15: 18º | T15: 19º | AB15: 14ª | AC15: 15º | AD15: 16º | AE15: 17º | AF15: 18º | AG15: 19º
A16: 1
A17: 2
A18: 3
A19: 4
A20: 5
A21: 6
A22: 7
A23: 8
A24: 9
A25: 10
A26: 11
A27: 12
... A46: 31
A47: C
A48: J
A49: I
A50: FT
A51: C + J | B51: =+B47+B48 -> 0 | C51: =+C47+C48 -> 0 | D51: =+D47+D48 -> 0 | E51: =+E47+E48 -> 0 | F51: =+F47+F48 -> 0 | G51: =+G47+G48 -> 0 | O51: =+O47+O48 -> 0 | P51: =+P47+P48 -> 0 | Q51: =+Q47+Q48 -> 0 | R51: =+R47+R48 -> 0 | S51: =+S47+S48 -> 0 | T51: =+T47+T48 -> 0 | AB51: =+AB47+AB48 -> 0 | AC51: =+AC47+AC48 -> 0 | AD51: =+AD47+AD48 -> 0 | AE51: =+AE47+AE48 -> 0 | AF51: =+AF47+AF48 -> 0 | AG51: =+AG47+AG48 -> 0
A52: F
A53: P
A54: Rubrica do Destinatário | O54: Rubrica do Destinatário | AB54: Rubrica do Destinatário
AH57: Pág. | AK57: de

Sheet Notas Explicativas
